0.5
0
0
-0.5
593482.80364719
4752278.79576326
