0.5
0
0
-0.5
596884.185632669
4752326.80402108
