0.5
0
0
-0.5
620570.186360649
4759650.34268342
