0.5
0
0
-0.5
630764.38840481
4759839.65183469
