0.5
0
0
-0.5
620776.371284382
4748083.16530799
