0.5
0
0
-0.5
654655.837743642
4755713.88656704
