0.5
0
0
-0.5
664912.589286148
4753640.7926774
