0.5
0
0
-0.5
685258.431251861
4756480.54249128
