0.5
0
0
-0.5
563000.772767138
4738042.58194659
