0.5
0
0
-0.5
583393.173866115
4742891.33202056
