0.5
0
0
-0.5
566386.198555829
4740388.72338622
