0.5
0
0
-0.5
590266.829290583
4738352.0665859
