0.5
0
0
-0.5
569841.327479034
4735796.4254533
