0.5
0
0
-0.5
583507.384457613
4733637.82684309
