0.5
0
0
-0.5
593611.135202304
4743025.11014241
