0.5
0
0
-0.5
617492.733430184
4741083.16860923
