0.5
0
0
-0.5
593707.026319945
4736084.98920529
