0.5
0
0
-0.5
610791.639925222
4734028.53887347
