0.5
0
0
-0.5
614202.190756967
4734084.9736079
