0.5
0
0
-0.5
593770.90602522
4731458.30005084
