0.5
0
0
-0.5
597182.582231332
4731506.31426315
