0.5
0
0
-0.5
610829.307518346
4731715.20544161
