0.5
0
0
-0.5
614279.823835858
4729458.32970879
