0.5
0
0
-0.5
631077.18181166
4743645.95750545
