0.5
0
0
-0.5
637983.23150772
4739154.07753411
