0.5
0
0
-0.5
641487.606778807
4734597.39879422
