0.5
0
0
-0.5
621064.462704466
4731889.60189847
