0.5
0
0
-0.5
624518.539047784
4729637.84779461
