0.5
0
0
-0.5
651822.503170346
4730190.79538407
