0.5
0
0
-0.5
655235.527920398
4730267.44248516
