0.5
0
0
-0.5
675415.290865889
4742329.43011325
