0.5
0
0
-0.5
549487.331283322
4721735.29017825
