0.5
0
0
-0.5
542684.279948227
4717062.10842674
