0.5
0
0
-0.5
559777.265625939
4717191.53015741
