0.5
0
0
-0.5
559797.72809386
4714878.25662969
