0.5
0
0
-0.5
559818.171829212
4712565.0340667
