0.5
0
0
-0.5
549589.719555026
4707855.94887796
