0.5
0
0
-0.5
566614.380624637
4717255.1972548
