0.5
0
0
-0.5
587154.922853754
4715174.32484022
