0.5
0
0
-0.5
590605.292470718
4712905.71664858
