0.5
0
0
-0.5
570104.44561322
4710349.93054809
