0.5
0
0
-0.5
580370.222858343
4710463.62580074
