0.5
0
0
-0.5
610979.861604433
4722461.93499549
