0.5
0
0
-0.5
593930.465176256
4719891.77139439
