0.5
0
0
-0.5
600765.235665551
4719989.45482195
