0.5
0
0
-0.5
594089.76824549
4708325.55298088
