0.5
0
0
-0.5
597512.828544716
4708373.51118498
