0.5
0
0
-0.5
600935.897111629
4708423.15000786
