0.5
0
0
-0.5
628018.211590081
4725074.4641129
