0.5
0
0
-0.5
628148.045957068
4718134.43760667
